BEGIN:VCALENDAR
VERSION:2.0
PRODID:-//Squarespace Inc/Squarespace 6//v6//EN
BEGIN:VEVENT
UID:5e1fd7a3f8c3503a17253471@squarespace.com
DTSTAMP:20200116T055720Z
DTSTART:20200220T003000Z
DTEND:20200220T043000Z
SUMMARY:Business Info Session
GEO:-28.778813;114.601113
LOCATION:The National Indigenous Australians Agency - Suite 4\, 4 Pollard S
 treet\, Geraldton\, WA\, 6530\, Australia
END:VEVENT
END:VCALENDAR
