BEGIN:VCALENDAR
VERSION:2.0
PRODID:-//Squarespace Inc/Squarespace 6//v6//EN
BEGIN:VEVENT
UID:5e252a666570d54754e55908@squarespace.com
DTSTAMP:20200120T042237Z
DTSTART:20201016T013000Z
DTEND:20201016T043000Z
SUMMARY:Managing stakeholder and customer expectations workshop - Cockburn
GEO:-32.129824;115.853193
LOCATION:IPS Management Consultants\, 11 Wentworth Parade\, Success\, WA\, 
 6164\, Australia
END:VEVENT
END:VCALENDAR
