BEGIN:VCALENDAR
VERSION:2.0
PRODID:-//Squarespace Inc/Squarespace 6//v6//EN
BEGIN:VEVENT
UID:5e2524d03e92f95439911bf6@squarespace.com
DTSTAMP:20200120T035813Z
DTSTART:20200909T013000Z
DTEND:20200909T043000Z
SUMMARY:Effective contract management practices workshop - Peel
GEO:-32.842842;115.924487
LOCATION:IPS Management Consultants\, 10 Henning Street\, Waroona\, WA\, 62
 15\, Australia
END:VEVENT
END:VCALENDAR
