BEGIN:VCALENDAR
VERSION:2.0
PRODID:-//Squarespace Inc/Squarespace 6//v6//EN
BEGIN:VEVENT
UID:5e251ad5518cc75eb731150f@squarespace.com
DTSTAMP:20200120T034137Z
DTSTART:20200819T013000Z
DTEND:20200819T043000Z
SUMMARY:Governance frameworks\, managing an NFP and business systems worksh
 op - Osbourne Park
GEO:-31.900791;115.813888
LOCATION:Carey Training\, 19 Collingwood Street\, Osborne Park\, WA\, 6017\
 , Australia
END:VEVENT
END:VCALENDAR
