BEGIN:VCALENDAR
VERSION:2.0
PRODID:-//Squarespace Inc/Squarespace 6//v6//EN
BEGIN:VEVENT
UID:5e251f106fef6f177e5f69fe@squarespace.com
DTSTAMP:20200120T034146Z
DTSTART:20200820T013000Z
DTEND:20200820T043000Z
SUMMARY:Governance frameworks\, managing an NFP and business systems worksh
 op - Burswood
GEO:-31.967654;115.892562
LOCATION:IPS Management Consultants\, 53 Burswood Road\, Burswood\, WA\, 61
 00\, Australia
END:VEVENT
END:VCALENDAR
