BEGIN:VCALENDAR
VERSION:2.0
PRODID:-//Squarespace Inc/Squarespace 6//v6//EN
BEGIN:VEVENT
UID:5e1fd9e057b4c425de9da94c@squarespace.com
DTSTAMP:20200116T062003Z
DTSTART:20200123T013000Z
DTEND:20200123T043000Z
SUMMARY:Understanding the government procurement process workshop - Peel
GEO:-32.532414;115.719977
LOCATION:IPS Management Consultants\, 38 Mandurah Terrace\, Mandurah\, WA\, 
 6210\, Australia
END:VEVENT
END:VCALENDAR
