BEGIN:VCALENDAR
VERSION:2.0
PRODID:-//Squarespace Inc/Squarespace 6//v6//EN
BEGIN:VEVENT
UID:5e1ff19250880c2dddc04827@squarespace.com
DTSTAMP:20200116T064239Z
DTSTART:20200326T013000Z
DTEND:20200326T043000Z
SUMMARY:Effectively marketing and promoting your business workshop - South 
 West
GEO:-33.653158;115.345489
LOCATION:Busselton\, Australia
END:VEVENT
END:VCALENDAR
