BEGIN:VCALENDAR
VERSION:2.0
PRODID:-//Squarespace Inc/Squarespace 6//v6//EN
BEGIN:VEVENT
UID:5e2519fa6208476247a7d41d@squarespace.com
DTSTAMP:20200120T034102Z
DTSTART:20200709T013000Z
DTEND:20200709T043000Z
SUMMARY:Human resource management and risk management workshop - Peel
GEO:-32.532414;115.719977
LOCATION:Make Place\, 38 Mandurah Terrace\, Mandurah\, WA\, 6210\, Australi
 a
END:VEVENT
END:VCALENDAR
