BEGIN:VCALENDAR
VERSION:2.0
PRODID:-//Squarespace Inc/Squarespace 6//v6//EN
BEGIN:VEVENT
UID:5e2529965dfafe47d38d32de@squarespace.com
DTSTAMP:20200120T041937Z
DTSTART:20201015T013000Z
DTEND:20201015T043000Z
SUMMARY:Managing stakeholder and customer expectations workshop - Burswood
GEO:-31.967654;115.892562
LOCATION:IPS Management Consultants\, 53 Burswood Road\, Burswood\, WA\, 61
 00\, Australia
END:VEVENT
END:VCALENDAR
