BEGIN:VCALENDAR
VERSION:2.0
PRODID:-//Squarespace Inc/Squarespace 6//v6//EN
BEGIN:VEVENT
UID:5e1fff891312f174809f548a@squarespace.com
DTSTAMP:20200116T064553Z
DTSTART:20200512T013000Z
DTEND:20200512T043000Z
SUMMARY:Effective networking workshop - Peel
GEO:-32.627434;115.873386
LOCATION:IPS Management Consultants\, 14 James Street\, Pinjarra\, WA\, 620
 8\, Australia
END:VEVENT
END:VCALENDAR
