BEGIN:VCALENDAR
VERSION:2.0
PRODID:-//Squarespace Inc/Squarespace 6//v6//EN
BEGIN:VEVENT
UID:5e1fe4bc1312f174809c6e76@squarespace.com
DTSTAMP:20200116T055820Z
DTSTART:20200220T013000Z
DTEND:20200220T043000Z
SUMMARY:Responding effectively to quotes and tenders workshop - Burswood
GEO:-31.967654;115.892562
LOCATION:IPS Management Consultants\, 53 Burswood Road\, Burswood\, WA\, 61
 00\, Australia
END:VEVENT
END:VCALENDAR
