BEGIN:VCALENDAR
VERSION:2.0
PRODID:-//Squarespace Inc/Squarespace 6//v6//EN
BEGIN:VEVENT
UID:5e2004c14293956c31b0ac20@squarespace.com
DTSTAMP:20200120T034009Z
DTSTART:20200616T013000Z
DTEND:20200616T043000Z
SUMMARY:Financial management and ATO/ insurance obligations workshop - Peel
GEO:-32.842842;115.924487
LOCATION:IPS Management Consultants\, 10 Henning Street\, Waroona\, WA\, 62
 15\, Australia
END:VEVENT
END:VCALENDAR
