BEGIN:VCALENDAR
VERSION:2.0
PRODID:-//Squarespace Inc/Squarespace 6//v6//EN
BEGIN:VEVENT
UID:5e2005bf88a2f442885504d7@squarespace.com
DTSTAMP:20200120T034044Z
DTSTART:20200622T013000Z
DTEND:20200622T043000Z
SUMMARY:Financial Management and ATO/ insurance obligations workshop - Grea
 t Southern
GEO:-35.026934;117.883721
LOCATION:Albany\, Australia
END:VEVENT
END:VCALENDAR
