BEGIN:VCALENDAR
VERSION:2.0
PRODID:-//Squarespace Inc/Squarespace 6//v6//EN
BEGIN:VEVENT
UID:5e1ffbabf0b63e06cfdb88e6@squarespace.com
DTSTAMP:20200116T061323Z
DTSTART:20200409T013000Z
DTEND:20200409T043000Z
SUMMARY:Identifying\, monitoring and targeting growth opportunities worksho
 p - Peel
GEO:-32.532414;115.719977
LOCATION:Make Place\, 38 Mandurah Terrace\, Mandurah\, WA\, 6210\, Australi
 a
END:VEVENT
END:VCALENDAR
