BEGIN:VCALENDAR
VERSION:2.0
PRODID:-//Squarespace Inc/Squarespace 6//v6//EN
BEGIN:VEVENT
UID:5e20074250880c2dddc268a1@squarespace.com
DTSTAMP:20200120T034118Z
DTSTART:20200716T013000Z
DTEND:20200716T043000Z
SUMMARY:Human resource management and risk management workshop - Burswood
GEO:-31.967654;115.892562
LOCATION:IPS Management Consultants\, 53 Burswood Road\, Burswood\, WA\, 61
 00\, Australia
END:VEVENT
END:VCALENDAR
