BEGIN:VCALENDAR
VERSION:2.0
PRODID:-//Squarespace Inc/Squarespace 6//v6//EN
BEGIN:VEVENT
UID:5e1ffff8c93b505222d65d1d@squarespace.com
DTSTAMP:20200116T064541Z
DTSTART:20200501T013000Z
DTEND:20200501T043000Z
SUMMARY:Effective networking workshop - South West
GEO:-33.359918;116.156283
LOCATION:South West Development Commission Collie\, 13 Forrest Street\, Col
 lie\, WA\, 6225\, Australia
END:VEVENT
END:VCALENDAR
