BEGIN:VCALENDAR
VERSION:2.0
PRODID:-//Squarespace Inc/Squarespace 6//v6//EN
BEGIN:VEVENT
UID:5e251691556e15498ac78c77@squarespace.com
DTSTAMP:20200120T034127Z
DTSTART:20200717T013000Z
DTEND:20200717T043000Z
SUMMARY:Human resource management and risk management workshop - Cockburn
GEO:-32.129824;115.853193
LOCATION:IPS Management Consultants\, 11 Wentworth Parade\, Success\, WA\, 
 6164\, Australia
END:VEVENT
END:VCALENDAR
