BEGIN:VCALENDAR
VERSION:2.0
PRODID:-//Squarespace Inc/Squarespace 6//v6//EN
BEGIN:VEVENT
UID:5e25372fdcc09322ea010f58@squarespace.com
DTSTAMP:20200120T051822Z
DTSTART:20200527T010000Z
DTEND:20200603T090000Z
SUMMARY:National Reconciliation Week 2020
END:VEVENT
END:VCALENDAR
