BEGIN:VCALENDAR
VERSION:2.0
PRODID:-//Squarespace Inc/Squarespace 6//v6//EN
BEGIN:VEVENT
UID:5e1fde9d6520195adfbb8ef8@squarespace.com
DTSTAMP:20200116T055509Z
DTSTART:20200217T013000Z
DTEND:20200217T043000Z
SUMMARY:Understanding the government procurement process workshop - Great S
 outhern
GEO:-33.691708;117.555493
LOCATION:Katanning Hub CRC\, 42 Austral Terrace\, Katanning\, WA\, 6317\, A
 ustralia
END:VEVENT
END:VCALENDAR
