BEGIN:VCALENDAR
VERSION:2.0
PRODID:-//Squarespace Inc/Squarespace 6//v6//EN
BEGIN:VEVENT
UID:5e1ffc2f503de051586d2114@squarespace.com
DTSTAMP:20200116T063514Z
DTSTART:20200422T013000Z
DTEND:20200422T043000Z
SUMMARY:Identifying\, monitoring and targeting growth opportunities worksho
 p - South West
GEO:-33.327405;115.63839
LOCATION:Bunbury Geographe Chamber of Commerce and Industry\, 15 Stirling S
 treet\, Bunbury\, WA\, 6230\, Australia
END:VEVENT
END:VCALENDAR
