BEGIN:VCALENDAR
VERSION:2.0
PRODID:-//Squarespace Inc/Squarespace 6//v6//EN
BEGIN:VEVENT
UID:5e1fef2388a2f4428852ed44@squarespace.com
DTSTAMP:20200116T060841Z
DTSTART:20200319T013000Z
DTEND:20200319T043000Z
SUMMARY:Effectively marketing and promoting your business workshop - Burswo
 od
GEO:-31.967654;115.892562
LOCATION:IPS Management Consultants\, 53 Burswood Road\, Burswood\, WA\, 61
 00\, Australia
END:VEVENT
END:VCALENDAR
