BEGIN:VCALENDAR
VERSION:2.0
PRODID:-//Squarespace Inc/Squarespace 6//v6//EN
BEGIN:VEVENT
UID:5e252b2e6208476247aab28a@squarespace.com
DTSTAMP:20200120T042501Z
DTSTART:20201008T013000Z
DTEND:20201008T043000Z
SUMMARY:Managing stakeholder and customer expectations workshop - Peel
GEO:-32.532414;115.719977
LOCATION:Make Place\, 38 Mandurah Terrace\, Mandurah\, WA\, 6210\, Australi
 a
END:VEVENT
END:VCALENDAR
