BEGIN:VCALENDAR
VERSION:2.0
PRODID:-//Squarespace Inc/Squarespace 6//v6//EN
BEGIN:VEVENT
UID:5e20007a4293956c31b053ef@squarespace.com
DTSTAMP:20200120T033955Z
DTSTART:20200525T013000Z
DTEND:20200525T043000Z
SUMMARY:Effective networking workshop - Great Southern
GEO:-33.691708;117.555493
LOCATION:Katanning Hub CRC\, 42 Austral Terrace\, Katanning\, WA\, 6317\, A
 ustralia
END:VEVENT
END:VCALENDAR
