BEGIN:VCALENDAR
VERSION:2.0
PRODID:-//Squarespace Inc/Squarespace 6//v6//EN
BEGIN:VEVENT
UID:5e200133f5403e49cd8c0d13@squarespace.com
DTSTAMP:20200120T034019Z
DTSTART:20200617T013000Z
DTEND:20200617T043000Z
SUMMARY:Financial management and ATO/insurance obligations workshop - Osbou
 rne Park 
GEO:-31.900791;115.813888
LOCATION:Carey Training\, 19 Collingwood Street\, Osborne Park\, WA\, 6017\
 , Australia
END:VEVENT
END:VCALENDAR
