BEGIN:VCALENDAR
VERSION:2.0
PRODID:-//Squarespace Inc/Squarespace 6//v6//EN
BEGIN:VEVENT
UID:5e1ff2f14293956c31af050a@squarespace.com
DTSTAMP:20200116T061031Z
DTSTART:20200323T013000Z
DTEND:20200323T043000Z
SUMMARY:Effectively marketing and promoting your business workshop - Great 
 Southern
GEO:-33.691708;117.555493
LOCATION:Katanning Hub CRC\, 42 Austral Terrace\, Katanning\, WA\, 6317\, A
 ustralia
END:VEVENT
END:VCALENDAR
