BEGIN:VCALENDAR
VERSION:2.0
PRODID:-//Squarespace Inc/Squarespace 6//v6//EN
BEGIN:VEVENT
UID:5e252188dcc09322eafdbb0f@squarespace.com
DTSTAMP:20200120T034444Z
DTSTART:20200811T013000Z
DTEND:20200811T043000Z
SUMMARY:Governance frameworks\, managing an NFP and business systems worksh
 op - Peel
GEO:-32.627434;115.873386
LOCATION:IPS Management Consultants\, 14 James Street\, Pinjarra\, WA\, 620
 8\, Australia
END:VEVENT
END:VCALENDAR
