BEGIN:VCALENDAR
VERSION:2.0
PRODID:-//Squarespace Inc/Squarespace 6//v6//EN
BEGIN:VEVENT
UID:5e20053ec93b505222d6de35@squarespace.com
DTSTAMP:20200120T034054Z
DTSTART:20200626T013000Z
DTEND:20200626T043000Z
SUMMARY:Financial management and ATO/ insurance obligations workshop - Sout
 h West
GEO:-33.653158;115.345489
LOCATION:Busselton\, Australia
END:VEVENT
END:VCALENDAR
