BEGIN:VCALENDAR
VERSION:2.0
PRODID:-//Squarespace Inc/Squarespace 6//v6//EN
BEGIN:VEVENT
UID:5e1fe4073d9b3759838a1106@squarespace.com
DTSTAMP:20200116T055854Z
DTSTART:20200219T013000Z
DTEND:20200219T043000Z
SUMMARY:Responding effectively to quotes and tenders workshop - Osbourne Pa
 rk
GEO:-31.900791;115.813888
LOCATION:Carey Training\, 19 Collingwood Street - Unit 1\, Osborne Park\, W
 A\, 6017\, Australia
END:VEVENT
END:VCALENDAR
