BEGIN:VCALENDAR
VERSION:2.0
PRODID:-//Squarespace Inc/Squarespace 6//v6//EN
BEGIN:VEVENT
UID:5e1fff323d9b3759838d0151@squarespace.com
DTSTAMP:20200120T033945Z
DTSTART:20200522T013000Z
DTEND:20200522T043000Z
SUMMARY:Effective networking workshop - Cockburn
GEO:-32.129824;115.853193
LOCATION:IPS Management Consultants\, 11 Wentworth Parade\, Success\, WA\, 
 6164\, Australia
END:VEVENT
END:VCALENDAR
