BEGIN:VCALENDAR
VERSION:2.0
PRODID:-//Squarespace Inc/Squarespace 6//v6//EN
BEGIN:VEVENT
UID:5e1fdccb4301a9378dbcb0d9@squarespace.com
DTSTAMP:20200116T055104Z
DTSTART:20200206T013000Z
DTEND:20200206T043000Z
SUMMARY:Understanding the government procurement process workshop - South W
 est
GEO:-33.327405;115.63839
LOCATION:Bunbury Geographe Chamber of Commerce and Industry\, 15 Stirling S
 treet\, Bunbury\, WA\, 6230\, Australia
END:VEVENT
END:VCALENDAR
