BEGIN:VCALENDAR
VERSION:2.0
PRODID:-//Squarespace Inc/Squarespace 6//v6//EN
BEGIN:VEVENT
UID:5e2525f7f8b9515a76c200af@squarespace.com
DTSTAMP:20200120T041610Z
DTSTART:20201014T013000Z
DTEND:20201014T043000Z
SUMMARY:Managing stakeholder and customer expectations workshop - Osbourne 
 Park 
GEO:-31.900791;115.813888
LOCATION:Carey Training\, 19 Collingwood Street - Unit 1\, Osborne Park\, W
 A\, 6017\, Australia
END:VEVENT
END:VCALENDAR
