BEGIN:VCALENDAR
VERSION:2.0
PRODID:-//Squarespace Inc/Squarespace 6//v6//EN
BEGIN:VEVENT
UID:5e1ffd7350880c2dddc17e03@squarespace.com
DTSTAMP:20200116T064259Z
DTSTART:20200520T013000Z
DTEND:20200520T043000Z
SUMMARY:Effective networking workshop - Osbourne Park
GEO:-31.900791;115.813888
LOCATION:Carey Training\, 19 Collingwood Street - Unit 1\, Osborne Park\, W
 A\, 6017\, Australia
END:VEVENT
END:VCALENDAR
