BEGIN:VCALENDAR
VERSION:2.0
PRODID:-//Squarespace Inc/Squarespace 6//v6//EN
BEGIN:VEVENT
UID:5e2523956570d54754e43c26@squarespace.com
DTSTAMP:20200120T035248Z
DTSTART:20200917T013000Z
DTEND:20200917T043000Z
SUMMARY:Effective contract management practices workshop - Burswood
GEO:-31.967654;115.892562
LOCATION:IPS Management Consultants\, 53 Burswood Road\, Burswood\, WA\, 61
 00\, Australia
END:VEVENT
END:VCALENDAR
