BEGIN:VCALENDAR
VERSION:2.0
PRODID:-//Squarespace Inc/Squarespace 6//v6//EN
BEGIN:VEVENT
UID:5e2002eff8c3503a1729f7e4@squarespace.com
DTSTAMP:20200120T034028Z
DTSTART:20200618T060000Z
DTEND:20200618T090000Z
SUMMARY:Financial management and ATO/ insurance obligations - Burswood 
GEO:-31.968413;115.89234
LOCATION:IPS Management Consultants\, 52 Burswood Road\, Burswood\, WA\, 61
 00\, Australia
END:VEVENT
END:VCALENDAR
