BEGIN:VCALENDAR
VERSION:2.0
PRODID:-//Squarespace Inc/Squarespace 6//v6//EN
BEGIN:VEVENT
UID:5e1fe58d88a2f4428851be2f@squarespace.com
DTSTAMP:20200116T055150Z
DTSTART:20200211T013000Z
DTEND:20200211T043000Z
SUMMARY:Responding effectively to quotes and tenders workshop - Peel
GEO:-32.627434;115.873386
LOCATION:IPS Management Consultants\, 14 James Street\, Pinjarra\, WA\, 620
 8\, Australia
END:VEVENT
END:VCALENDAR
