BEGIN:VCALENDAR
VERSION:2.0
PRODID:-//Squarespace Inc/Squarespace 6//v6//EN
BEGIN:VEVENT
UID:5e1ff07ac93b505222d4e88a@squarespace.com
DTSTAMP:20200116T060116Z
DTSTART:20200311T013000Z
DTEND:20200311T043000Z
SUMMARY:Effectively marketing and promoting your business - Peel
GEO:-32.842842;115.924487
LOCATION:IPS Management Consultants\, 10 Henning Street\, Waroona\, WA\, 62
 15\, Australia
END:VEVENT
END:VCALENDAR
