BEGIN:VCALENDAR
VERSION:2.0
PRODID:-//Squarespace Inc/Squarespace 6//v6//EN
BEGIN:VEVENT
UID:5e252435c77df97290886b85@squarespace.com
DTSTAMP:20200120T035544Z
DTSTART:20200918T013000Z
DTEND:20200918T043000Z
SUMMARY:Effective contract management practices workshop - Cockburn
GEO:-32.129824;115.853193
LOCATION:IPS Management Consultants\, 11 Wentworth Parade\, Success\, WA\, 
 6164\, Australia
END:VEVENT
END:VCALENDAR
