BEGIN:VCALENDAR
VERSION:2.0
PRODID:-//Squarespace Inc/Squarespace 6//v6//EN
BEGIN:VEVENT
UID:5e1ff38a3d9b3759838be523@squarespace.com
DTSTAMP:20200116T062040Z
DTSTART:20200415T013000Z
DTEND:20200415T043000Z
SUMMARY:Identifying\, monitoring and targeting growth opportunities worksho
 p - Osbourne Park
GEO:-31.900791;115.813888
LOCATION:Carey Training\, 19 Collingwood Street\, Osborne Park\, WA\, 6017\
 , Australia
END:VEVENT
END:VCALENDAR
