BEGIN:VCALENDAR
VERSION:2.0
PRODID:-//Squarespace Inc/Squarespace 6//v6//EN
BEGIN:VEVENT
UID:5e15329a9d59726674810178@squarespace.com
DTSTAMP:20200116T055053Z
DTSTART:20200406T020000Z
DTEND:20200409T030000Z
SUMMARY:World Indigenous Tourism Summit
END:VEVENT
END:VCALENDAR
