BEGIN:VCALENDAR
VERSION:2.0
PRODID:-//Squarespace Inc/Squarespace 6//v6//EN
BEGIN:VEVENT
UID:5e1ffac4f0b63e06cfdb7709@squarespace.com
DTSTAMP:20200116T062054Z
DTSTART:20200416T013000Z
DTEND:20200416T043000Z
SUMMARY:Identifying\, monitoring and targeting growth opportunities worksho
 p - Burswood
GEO:-31.967654;115.892562
LOCATION:IPS Management Consultants\, 53 Burswood Road\, Burswood\, WA\, 61
 00\, Australia
END:VEVENT
END:VCALENDAR
