BEGIN:VCALENDAR
VERSION:2.0
PRODID:-//Squarespace Inc/Squarespace 6//v6//EN
BEGIN:VEVENT
UID:5e20069357b4c425dea2848b@squarespace.com
DTSTAMP:20200120T034110Z
DTSTART:20200715T013000Z
DTEND:20200715T043000Z
SUMMARY:Human resource management and risk management workshop - Osbourne P
 ark
GEO:-31.900791;115.813888
LOCATION:Carey Training\, 19 Collingwood Street\, Osborne Park\, WA\, 6017\
 , Australia
END:VEVENT
END:VCALENDAR
