BEGIN:VCALENDAR
VERSION:2.0
PRODID:-//Squarespace Inc/Squarespace 6//v6//EN
BEGIN:VEVENT
UID:5e1ffe3df5403e49cd8bd93d@squarespace.com
DTSTAMP:20200116T064311Z
DTSTART:20200521T013000Z
DTEND:20200521T043000Z
SUMMARY:Effective networking workshop - Burswood
GEO:-31.963307;115.896755
LOCATION:Burswood\, Australia
END:VEVENT
END:VCALENDAR
