BEGIN:VCALENDAR
VERSION:2.0
PRODID:-//Squarespace Inc/Squarespace 6//v6//EN
BEGIN:VEVENT
UID:5e25201f5dfafe47d38bb9b1@squarespace.com
DTSTAMP:20200120T033908Z
DTSTART:20200821T013000Z
DTEND:20200821T043000Z
SUMMARY:Governance frameworks\, managing an NFP and business systems worksh
 op - Cockburn
GEO:-32.129824;115.853193
LOCATION:IPS Management Consultants\, 11 Wentworth Parade\, Success\, WA\, 
 6164\, Australia
END:VEVENT
END:VCALENDAR
