BEGIN:VCALENDAR
VERSION:2.0
PRODID:-//Squarespace Inc/Squarespace 6//v6//EN
BEGIN:VEVENT
UID:5e1ffcf557b4c425dea1ae44@squarespace.com
DTSTAMP:20200116T063633Z
DTSTART:20200428T013000Z
DTEND:20200428T043000Z
SUMMARY:Identifying\, monitoring and targeting growth opportunities worksho
 p - Great Southern
GEO:-35.021913;117.88205
LOCATION:Great Southern Development Commission\, 110 Serpentine Road\, Alba
 ny\, WA\, 6330\, Australia
END:VEVENT
END:VCALENDAR
