BEGIN:VCALENDAR
VERSION:2.0
PRODID:-//Squarespace Inc/Squarespace 6//v6//EN
BEGIN:VEVENT
UID:5e252d682e103654eba16fea@squarespace.com
DTSTAMP:20200120T043457Z
DTSTART:20200705T010000Z
DTEND:20200712T090000Z
SUMMARY:NAIDOC Week 2020
END:VEVENT
END:VCALENDAR
