BEGIN:VCALENDAR
VERSION:2.0
PRODID:-//Squarespace Inc/Squarespace 6//v6//EN
BEGIN:VEVENT
UID:5e2522366810047965f451c1@squarespace.com
DTSTAMP:20200120T035025Z
DTSTART:20200916T013000Z
DTEND:20200916T043000Z
SUMMARY:Effective contract management practices workshop - Osbourne Park 
GEO:-31.900791;115.813888
LOCATION:Carey Training\, 19 Collingwood Street - Unit 1\, Osborne Park\, W
 A\, 6017\, Australia
END:VEVENT
END:VCALENDAR
