BEGIN:VCALENDAR
VERSION:2.0
PRODID:-//Squarespace Inc/Squarespace 6//v6//EN
BEGIN:VEVENT
UID:5e1ffb3daba2e60526bc8150@squarespace.com
DTSTAMP:20200116T062514Z
DTSTART:20200417T013000Z
DTEND:20200417T043000Z
SUMMARY:Identifying\, monitoring and targeting growth opportunities worksho
 p - Cockburn
GEO:-32.129824;115.853193
LOCATION:IPS Management Consultants\, 11 Wentworth Parade\, Success\, WA\, 
 6164\, Australia
END:VEVENT
END:VCALENDAR
