BEGIN:VCALENDAR
VERSION:2.0
PRODID:-//Squarespace Inc/Squarespace 6//v6//EN
BEGIN:VEVENT
UID:5e1fe5fe1312f174809c9135@squarespace.com
DTSTAMP:20200116T060023Z
DTSTART:20200305T013000Z
DTEND:20200305T043000Z
SUMMARY:Responding effectively to quotes and tenders workshop - South West
GEO:-33.359918;116.156283
LOCATION:South West Development Commission Collie\, 13 Forrest Street\, Col
 lie\, WA\, 6225\, Australia
END:VEVENT
END:VCALENDAR
