BEGIN:VCALENDAR
VERSION:2.0
PRODID:-//Squarespace Inc/Squarespace 6//v6//EN
BEGIN:VEVENT
UID:5e2003fff0b63e06cfdc504c@squarespace.com
DTSTAMP:20200120T034036Z
DTSTART:20200619T013000Z
DTEND:20200619T043000Z
SUMMARY:Financial management and ATO/ insurance obligations workshop - Cock
 burn
GEO:-32.129824;115.853193
LOCATION:IPS Management Consultants\, 11 Wentworth Parade\, Success\, WA\, 
 6164\, Australia
END:VEVENT
END:VCALENDAR
