BEGIN:VCALENDAR
VERSION:2.0
PRODID:-//Squarespace Inc/Squarespace 6//v6//EN
BEGIN:VEVENT
UID:5e1fee6ef5403e49cd8a6ae1@squarespace.com
DTSTAMP:20200116T060138Z
DTSTART:20200318T013000Z
DTEND:20200318T043000Z
SUMMARY:Effectively marketing and promoting your business workshop - Osbour
 ne Park
GEO:-31.900791;115.813888
LOCATION:Carey Training\, 19 Collingwood Street - Unit 1\, Osborne Park\, W
 A\, 6017\, Australia
END:VEVENT
END:VCALENDAR
